BEGIN:VCALENDAR
VERSION:2.0
PRODID:-//QA Club - ECPv6.15.20//NONSGML v1.0//EN
CALSCALE:GREGORIAN
METHOD:PUBLISH
X-ORIGINAL-URL:https://qaclub.io
X-WR-CALDESC:Events for QA Club
REFRESH-INTERVAL;VALUE=DURATION:PT1H
X-Robots-Tag:noindex
X-PUBLISHED-TTL:PT1H
BEGIN:VTIMEZONE
TZID:UTC
BEGIN:STANDARD
TZOFFSETFROM:+0000
TZOFFSETTO:+0000
TZNAME:UTC
DTSTART:20250101T000000
END:STANDARD
END:VTIMEZONE
BEGIN:VEVENT
DTSTART;TZID=UTC:20260819T090000
DTEND;TZID=UTC:20260821T180000
DTSTAMP:20260424T075013
CREATED:20260408T212055Z
LAST-MODIFIED:20260408T212055Z
UID:549-1787130000-1787335200@qaclub.io
SUMMARY:TestMu Conference 2026
DESCRIPTION:
URL:https://qaclub.io/event/testmu-conference-2026/
CATEGORIES:Conference,Convention
END:VEVENT
END:VCALENDAR