BEGIN:VCALENDAR
VERSION:2.0
PRODID:-//QA Club - ECPv6.15.20//NONSGML v1.0//EN
CALSCALE:GREGORIAN
METHOD:PUBLISH
X-ORIGINAL-URL:https://qaclub.io
X-WR-CALDESC:Events for QA Club
REFRESH-INTERVAL;VALUE=DURATION:PT1H
X-Robots-Tag:noindex
X-PUBLISHED-TTL:PT1H
BEGIN:VTIMEZONE
TZID:UTC
BEGIN:STANDARD
TZOFFSETFROM:+0000
TZOFFSETTO:+0000
TZNAME:UTC
DTSTART:20250101T000000
END:STANDARD
END:VTIMEZONE
BEGIN:VEVENT
DTSTART;TZID=UTC:20260426T080000
DTEND;TZID=UTC:20260501T170000
DTSTAMP:20260424T170511
CREATED:20260408T212051Z
LAST-MODIFIED:20260408T212051Z
UID:544-1777190400-1777654800@qaclub.io
SUMMARY:STAREAST 2026
DESCRIPTION:
URL:https://qaclub.io/event/stareast-2026/
CATEGORIES:Conference,Convention
END:VEVENT
BEGIN:VEVENT
DTSTART;TZID=UTC:20260506T090000
DTEND;TZID=UTC:20260508T170000
DTSTAMP:20260424T170511
CREATED:20260408T212051Z
LAST-MODIFIED:20260408T212051Z
UID:545-1778058000-1778259600@qaclub.io
SUMMARY:SeleniumConf & AppiumConf 2026
DESCRIPTION:
URL:https://qaclub.io/event/seleniumconf-appiumconf-2026/
CATEGORIES:Conference,Convention
END:VEVENT
BEGIN:VEVENT
DTSTART;TZID=UTC:20260526T100000
DTEND;TZID=UTC:20260526T180000
DTSTAMP:20260424T170511
CREATED:20260408T212051Z
LAST-MODIFIED:20260408T212051Z
UID:546-1779789600-1779818400@qaclub.io
SUMMARY:OnlineTestConf 2026
DESCRIPTION:
URL:https://qaclub.io/event/onlinetestconf-2026/
CATEGORIES:Conference,Convention
END:VEVENT
END:VCALENDAR